BEGIN:VCALENDAR
VERSION:2.0
PRODID:-//Freiwillige Feuerwehren Dörverden - ECPv6.15.20//NONSGML v1.0//EN
CALSCALE:GREGORIAN
METHOD:PUBLISH
X-ORIGINAL-URL:https://www.feuerwehren-doerverden.de
X-WR-CALDESC:Veranstaltungen für Freiwillige Feuerwehren Dörverden
REFRESH-INTERVAL;VALUE=DURATION:PT1H
X-Robots-Tag:noindex
X-PUBLISHED-TTL:PT1H
BEGIN:VTIMEZONE
TZID:Europe/Berlin
BEGIN:DAYLIGHT
TZOFFSETFROM:+0100
TZOFFSETTO:+0200
TZNAME:CEST
DTSTART:20250330T010000
END:DAYLIGHT
BEGIN:STANDARD
TZOFFSETFROM:+0200
TZOFFSETTO:+0100
TZNAME:CET
DTSTART:20251026T010000
END:STANDARD
BEGIN:DAYLIGHT
TZOFFSETFROM:+0100
TZOFFSETTO:+0200
TZNAME:CEST
DTSTART:20260329T010000
END:DAYLIGHT
BEGIN:STANDARD
TZOFFSETFROM:+0200
TZOFFSETTO:+0100
TZNAME:CET
DTSTART:20261025T010000
END:STANDARD
BEGIN:DAYLIGHT
TZOFFSETFROM:+0100
TZOFFSETTO:+0200
TZNAME:CEST
DTSTART:20270328T010000
END:DAYLIGHT
BEGIN:STANDARD
TZOFFSETFROM:+0200
TZOFFSETTO:+0100
TZNAME:CET
DTSTART:20271031T010000
END:STANDARD
END:VTIMEZONE
BEGIN:VEVENT
DTSTART;TZID=Europe/Berlin:20260606T120000
DTEND;TZID=Europe/Berlin:20260606T120000
DTSTAMP:20260420T121150
CREATED:20251210T164815Z
LAST-MODIFIED:20260114T163000Z
UID:8454-1780747200-1780747200@www.feuerwehren-doerverden.de
SUMMARY:Gemeinde-Feuerwehrtag
DESCRIPTION:
URL:https://www.feuerwehren-doerverden.de/event/gemeinde-feuerwehrtag/
LOCATION:Ortschaft
CATEGORIES:Barme,Dörverden,Gemeinde,Hülsen,Stedorf,Wahnebergen,Westen
END:VEVENT
BEGIN:VEVENT
DTSTART;TZID=Europe/Berlin:20261012T193000
DTEND;TZID=Europe/Berlin:20261012T193000
DTSTAMP:20260420T121150
CREATED:20251220T153354Z
LAST-MODIFIED:20260114T162931Z
UID:8490-1791833400-1791833400@www.feuerwehren-doerverden.de
SUMMARY:Gemeindefunkübung
DESCRIPTION:
URL:https://www.feuerwehren-doerverden.de/event/gemeindefunkuebung-2/
LOCATION:Gemeinde
CATEGORIES:Barme,Dörverden,Gemeinde,Hülsen,Stedorf,Wahnebergen,Westen
END:VEVENT
BEGIN:VEVENT
DTSTART;TZID=Europe/Berlin:20261109T193000
DTEND;TZID=Europe/Berlin:20261109T193000
DTSTAMP:20260420T121150
CREATED:20251220T153437Z
LAST-MODIFIED:20260114T162900Z
UID:8492-1794252600-1794252600@www.feuerwehren-doerverden.de
SUMMARY:Gemeindefunkübung
DESCRIPTION:
URL:https://www.feuerwehren-doerverden.de/event/gemeindefunkuebung-3/
LOCATION:Gemeinde
CATEGORIES:Barme,Dörverden,Gemeinde,Hülsen,Stedorf,Wahnebergen,Westen
END:VEVENT
END:VCALENDAR